BEGIN:VCALENDAR
VERSION:2.0
PRODID:-//ChamberMaster//Event Calendar 2.0//EN
METHOD:PUBLISH
X-PUBLISHED-TTL:P3D
REFRESH-INTERVAL:P3D
CALSCALE:GREGORIAN
BEGIN:VEVENT
DTSTART:20250822T000000Z
DTEND:20250822T020000Z
X-MICROSOFT-CDO-ALLDAYEVENT:FALSE
SUMMARY:After Hours Networking
DESCRIPTION:We're switching things up in August! Join us for our monthly After-Hours Networking Event during the Kenmore Summer Concert Series at St. Edward State Park. Enjoy lite bites and drinks in our cozy summer lounge area until 7:00\, then stick around for the concert. Parking is a breeze don't miss it!\n\n  Location:  St. Edwards State Park\n\n  Time: 5 - 7 PM | Concert goes until 8 PM\n\n  RSVP: CLICK HERE\n\nExpand your network in a relaxed\, fun setting with live music and a comfy chair(or blanket). Connect with like-minded professionals\, exchange ideas\, and explore potential collaborations. Whether you're looking for business advice\, new opportunities\, or just great conversation\, this event is for you!\n\nDon't miss this opportunity to build meaningful connections. See you there!\n\n\n\n\n\nCome to connect & more!
X-ALT-DESC;FMTTYPE=text/html:<p><strong>We&rsquo\;re switching things up in August!</strong> Join us for our monthly <strong>After-Hours Networking Event</strong> during the <a href="https://www.kenmorewa.gov/our-city/special-events/summer-concert-series">Kenmore Summer Concert Series at St. Edward State Park.</a> Enjoy lite bites and drinks in our cozy summer lounge area until 7:00\, then stick around for the concert. Parking is a breeze&mdash\;don&rsquo\;t miss it!</p>\n\n<p>&#128205\; <strong>Location:</strong>&nbsp\; St. Edwards State Park<br />\n&#128338\; <strong>Time:</strong> 5 - 7 PM | Concert goes until 8 PM<br />\n&#128233\; <strong>RSVP: </strong><a href="https://bothellchamberwa.chambermaster.com/eventregistration/register/29117">CLICK HERE</a></p>\n\n<p>Expand your network in a relaxed\, fun setting with live music and a comfy chair(or blanket). Connect with like-minded professionals\, exchange ideas\, and explore potential collaborations. Whether you&#39\;re looking for business advice\, new opportunities\, or just great conversation\, this event is for you!</p>\n\n<p>Don&rsquo\;t miss this opportunity to build meaningful connections. See you there!</p>\n\n<p style="text-align: center\;"><br style="text-align: center\;" />\n<br style="text-align: center\;" />\n<strong style="text-align: center\;"><span style="font-size: 18pt\;">Come to connect&nbsp\;&amp\; more!</span></strong></p>\n
LOCATION:
UID:e.2571.29117
SEQUENCE:3
DTSTAMP:20260423T140038Z
URL:http://bothellchamberwa.chambermaster.com/events/details/after-hours-networking-29117
END:VEVENT

END:VCALENDAR
