BEGIN:VCALENDAR
VERSION:2.0
PRODID:-//ChamberMaster//Event Calendar 2.0//EN
METHOD:PUBLISH
X-PUBLISHED-TTL:P3D
REFRESH-INTERVAL:P3D
CALSCALE:GREGORIAN
BEGIN:VEVENT
DTSTART:20191212T150000Z
DTEND:20191212T170000Z
X-MICROSOFT-CDO-ALLDAYEVENT:FALSE
SUMMARY:Networking Breakfast
DESCRIPTION:REGISTER HERE (through the Woodinville Chamber)\n\n\n\nEnjoy the benefits of increased professional connections\, collaboration opportunities and more referrals when you attend the Joint Networking Breakfast with two Chambers: Bothell Kenmore and Woodinville!\n\n\n\nYou will have an optional 30 minutes of open socializing/networking time before the event and table networking during the event.\n\n\n\nThe breakfast will feature "3 Ways To Get Your Thank On". Kay Taylor\, Vice President   Marketing\, Communications & PR for EvergreenHealth providing insight on "Exceeding Customer Expectations".\n\n\n\nTickets include a delicious cooked buffet breakfast\, parking and gratuities.
X-ALT-DESC;FMTTYPE=text/html:<br />\n<a href="https://woodinvillechamber.org/calendar/building-relationships-breakfast-dec-2019/" target="_blank"><span style="font-size:18px\;"><strong>REGISTER HERE</strong></span></a> <span style="font-size:14px\;">(through the Woodinville Chamber)</span><br />\n<br />\n<span style="font-size:14px\;">Enjoy the benefits of increased professional connections\, collaboration opportunities and more referrals when you attend the Joint Networking Breakfast with two Chambers: Bothell Kenmore and Woodinville!<br />\n<br />\nYou will have an optional 30 minutes of open socializing/networking time before the event and table networking during the event.<br />\n<br />\nThe breakfast will feature &quot\;3 Ways To Get Your Thank On&quot\;. Kay Taylor\, Vice President &ndash\; Marketing\, Communications &amp\; PR for EvergreenHealth providing insight on &quot\;Exceeding Customer Expectations&quot\;.<br />\n<br />\nTickets include a delicious cooked buffet breakfast\, parking and gratuities.</span><br />\n&nbsp\;
LOCATION:Fairwinds Brittany Park
UID:e.2571.18025
SEQUENCE:3
DTSTAMP:20260420T184448Z
URL:http://bothellchamberwa.chambermaster.com/events/details/networking-breakfast-18025
END:VEVENT

END:VCALENDAR
